BEGIN:VCALENDAR
VERSION:2.0
PRODID:-//eventon.com NONSGML v1.0//EN
CALSCALE:GREGORIAN
METHOD:PUBLISH
BEGIN:VEVENT
UID:69e5f4c594559
DTSTAMP:20260420T094125Z
DTSTART:20230723T130000Z
DTEND:20230723T160000Z
LOCATION:Schlosspark im Schloss KÃ¶then SchloÃŸplatz 4\,  06366 KÃ¶then (Anhalt)
SUMMARY:Sommerkino | Encanto
DESCRIPTION:Wie in den vergangenen beiden Jahren lÃ¤dt derÂ SchlossbundÂ am
  23. Juli 2023 in Kooperation mitÂ Megaton VeranstaltungstechnikÂ Filmfans 
 zum Open-Air-KinoÂ auf die Wiese hinter dem DÃ¼rerbundhaus ein. AbÂ 15 UhrÂ
  flimmert der Disney-AnimationsfilmÂ â€žEncantoâ€œÂ Ã¼ber die Leinwand im i
 dyllischen GrÃ¼n. Passend\,  spielt die Handlung des Films doch in den Berg
 en Kolumbiens. Dort lebt im DÃ¶rfchen Encanto die Familie[..]\nhttps://www.
 schlossbund.de/events/sommerkino-encanto/
URL:https://www.schlossbund.de/events/sommerkino-encanto/
END:VEVENT
END:VCALENDAR