BEGIN:VCALENDAR
VERSION:2.0
PRODID:-//eventon.com NONSGML v1.0//EN
CALSCALE:GREGORIAN
METHOD:PUBLISH
BEGIN:VEVENT
UID:69e5da579ba07
DTSTAMP:20260420T074839Z
DTSTART:20230721T173000Z
DTEND:20230721T193000Z
LOCATION:Schlosspark im Schloss Köthen Schloßplatz 4\,  06366 Köthen (Anhalt)
SUMMARY:Sommerkino | Top Gun: Maverick
DESCRIPTION:Der Köthener Schlosspark wird am 21. Juli 2023 zur „Danger
  Zone“\,  denn wie in den vergangenen beiden Jahren\,  lädt der Schloss
 bund an diesem Tag in Kooperation mit Megaton Veranstaltungstechnik Film
 fans zu einem Open-Air-Kino auf die Wiese hinter dem Dürerbundhaus ein. 
 Dieses Mal spüren wir eine Gier nach Tempo und zeigen einen der Kino-Hits 
 des vergangenen Jahres: „Top Gun: Maverick“. Ab 19:30[..]\nhttps://w
 ww.schlossbund.de/events/sommerkino-top-gun-maverick/
URL:https://www.schlossbund.de/events/sommerkino-top-gun-maverick/
END:VEVENT
END:VCALENDAR