BEGIN:VCALENDAR
VERSION:2.0
PRODID:-//eventon.com NONSGML v1.0//EN
CALSCALE:GREGORIAN
METHOD:PUBLISH
BEGIN:VEVENT
UID:69e60004a6fc0
DTSTAMP:20260420T102924Z
DTSTART:20230721T160000Z
DTEND:20230721T215000Z
LOCATION:DÃ¼rerbundhaus TheaterstraÃŸe 12\,  06366 KÃ¶then (Anhalt)
SUMMARY:Baum-FÃ¼hrung mit Alexa Sabarth
DESCRIPTION:Von Mai bis September 2023 lÃ¤dt die Diplom-Biologin und KÃ¼nst
 lerin Alexa Sabarth zur Entdeckertour durch den Schlosspark KÃ¶then ein und
  vermittelt dabei mit Geschichten\,  Wissenswertem und Kunstaktionen die â€
 žBotschaft der BÃ¤umeâ€œ. In den BaumfÃ¼hrungen nimmt die KÃ¼nstlerin Inter
 essierte mittels unterhaltsamer Geschichten\,  einem Rinden-Quiz\,  Sammel-
  und Nutzungstipps fÃ¼r heimische Pflanzen sowie[..]\nhttps://www.schlossbu
 nd.de/events/baum-fuehrung-mit-alexa-sabarth-3/
URL:https://www.schlossbund.de/events/baum-fuehrung-mit-alexa-sabarth-3/
END:VEVENT
END:VCALENDAR