BEGIN:VCALENDAR
VERSION:2.0
PRODID:-//eventon.com NONSGML v1.0//EN
CALSCALE:GREGORIAN
METHOD:PUBLISH
BEGIN:VEVENT
UID:69e889810841f
DTSTAMP:20260422T084033Z
DTSTART:20240419T120000Z
DTEND:20240419T170000Z
LOCATION:Dürerbundhaus Theaterstraße 12\,  06366 Köthen (Anhalt)
SUMMARY:Mitmach-Malen und Freiluftatelier mit Alexa Sabarth
DESCRIPTION:Im April 2024 lädt die Diplom-Biologin und Künstlerin Alexa S
 abarth noch einmal in ihr Freiluft-Atelier ein. Die Künstlerin und Gestalt
 erin bietet im Köthener Schlosspark die Gelegenheit\,  unter freiem Himmel
  und professioneller Anleitung kreativ zu werden. Neugierige und Interessie
 rte jeden Alters können kostenfrei ausprobieren\,  malen und gestalten. Ba
 stel- und Malutensilien werden[..]\nhttps://www.schlossbund.de/events/mitma
 ch-malen-und-freiluftatelier-mit-alexa-sabarth-2/
URL:https://www.schlossbund.de/events/mitmach-malen-und-freiluftatelier-mit-alexa-sabarth-2/
END:VEVENT
END:VCALENDAR