BEGIN:VCALENDAR
VERSION:2.0
PRODID:-//eventon.com NONSGML v1.0//EN
CALSCALE:GREGORIAN
METHOD:PUBLISH
BEGIN:VEVENT
UID:69e88981069b3
DTSTAMP:20260422T084033Z
DTSTART:20230722
DTEND:20230723
LOCATION:Dürerbundhaus Theaterstraße 12\,  06366 Köthen (Anhalt)
SUMMARY:Carpeople\,  Fotoausstellung von Bert Loewenherz
DESCRIPTION:Große Knollnase\,  markante Augen und ein verschmitztes Läche
 ln: In und um Köthen (Anhalt) sind die charakteristischen Comic-Zeichnunge
 n von Steffen Fischer fast jedem ein Begriff. Mittlerweile zählt das Portf
 olio des freiberuflichen Künstlers schon hunderte Kreationen und unzählig
 e Zeichnungen\,  seine berühmteste Schöpfung ist jedoch das Köthener Sta
 dtmaskottchen „Halli“. Vom 1. Dezember 2023[..]\nhttps://www.schlossbun
 d.de/events/carpeople-fotoausstellung-von-bert-loewenherz/
URL:https://www.schlossbund.de/events/carpeople-fotoausstellung-von-bert-loewenherz/
END:VEVENT
END:VCALENDAR