BEGIN:VCALENDAR
VERSION:2.0
PRODID:-//eventon.com NONSGML v1.0//EN
CALSCALE:GREGORIAN
METHOD:PUBLISH
BEGIN:VEVENT
UID:69eb3b2784cb0
DTSTAMP:20260424T094303Z
DTSTART:20230506T120000Z
DTEND:20230506T210000Z
LOCATION:Schlosspark im Schloss Köthen Schloßplatz 4\,  06366 Köthen (Anhalt)
SUMMARY:Das Schlossfest #BLICKWECHSEL
DESCRIPTION:Mit einem Markt der Vereine\,  einem vielseitigen Bühnenprogra
 mm und Mitmachaktionen lädt der dritte #BLICKWECHSEL am 6. Mai 2023 von 14
  bis 23 auf das Schlossareal ein! Einzelpersonen\,  Vereine\,  Projekte\,  
 Initiativen und Einrichtungen können diese Gelegenheit nutzen\,  sich und 
 ihre Arbeit vorzustellen und/oder Mitmachaktionen und Spiele anzubieten. Ju
 nge\,  kreative\,  auch verrückte[..]\nhttps://www.schlossbund.de/events/d
 as-schlossfest-blickwechsel/
URL:https://www.schlossbund.de/events/das-schlossfest-blickwechsel/
END:VEVENT
END:VCALENDAR