BEGIN:VCALENDAR
VERSION:2.0
PRODID:-//eventon.com NONSGML v1.0//EN
CALSCALE:GREGORIAN
METHOD:PUBLISH
BEGIN:VEVENT
UID:69e5fb48cbb7a
DTSTAMP:20260420T100912Z
DTSTART:20230422T160000Z
DTEND:20230422T215000Z
LOCATION:Anna-Magdalena-Bach-Saal im Veranstaltungszentrum im Schloss KÃ¶then SchloÃŸplatz 4\,  06366 KÃ¶then (Anhalt)
SUMMARY:TÃ¤nze der Welt
DESCRIPTION:Eine vielseitige BÃ¼hnenshow mit anschlieÃŸendem Tanz erwartet 
 die Besucherinnen und Besucher am 22. April 2023 im Anna-Magdalena-Bach-Saa
 l des Veranstaltungszentrums. Das Cateringunternehmen Timo Wienicke und die
  Tanzformation Harissa des Vereins Rondo la Kulturo coethen e. V. laden ab 
 19 Uhr erstmals zu der Veranstaltung â€žorientalische und internationale TÃ
 ¤nze der Weltâ€œ ein.[..]\nhttps://www.schlossbund.de/events/taenze-der-wel
 t/
URL:https://www.schlossbund.de/events/taenze-der-welt/
END:VEVENT
END:VCALENDAR