BEGIN:VCALENDAR
VERSION:2.0
PRODID:-//eventon.com NONSGML v1.0//EN
CALSCALE:GREGORIAN
METHOD:PUBLISH
BEGIN:VEVENT
UID:69e8d71024932
DTSTAMP:20260422T141128Z
DTSTART:20230422T080000Z
DTEND:20230423T160000Z
LOCATION:Dürerbundhaus Theaterstraße 12\,  06366 Köthen (Anhalt)
SUMMARY:Eisenbahnausstellung der Modellbahnfreunde Köthen
DESCRIPTION:Nach vier Jahren rollen die Modellbahnen wieder: Der Verein zur
  Pflege des Eisenbahnkulturgutes Köthen e.V. und die Modellbahnfreunde Kö
 then zeigen an den Wochenenden 22. und 23. April sowie 29. und 30. April in
  der Zeit von 10 bis 18 Uhr ihre Welt der Heim- und Modulanlagen H0\,  TT\,
   N. Erstmals[..]\nhttps://www.schlossbund.de/events/eisenbahnausstellung-d
 er-modellbahnfreunde-koethen/
URL:https://www.schlossbund.de/events/eisenbahnausstellung-der-modellbahnfreunde-koethen/
END:VEVENT
END:VCALENDAR